BEGIN:VCALENDAR
VERSION:2.0
PRODID:icalendar-ruby
CALSCALE:GREGORIAN
METHOD:PUBLISH
BEGIN:VEVENT
DTSTAMP:20260424T053812Z
UID:15-228053@thetab.ca
DTSTART:20260725T153000Z
DTEND:20260725T170000Z
CLASS:PUBLIC
CREATED:20260308T193403
DESCRIPTION:
LAST-MODIFIED:20260308T193403
LOCATION:The Tab
SUMMARY:Saturday Morning Prayer
URL;VALUE=URI:https://www.thetab.ca/events/saturday-morning-prayer/2026-07-
 25
ATTACH;FILENAME=patrick-fore-b_SHPU5M3nk-unsplash.jpg;FMTTYPE=image/jpeg:ht
 tps://dq5pwpg1q8ru0.cloudfront.net/2025/12/28/13/25/06/572749b8-943f-44fb-
 89cc-00cee0ec719d/patrick-fore-b_SHPU5M3nk-unsplash.jpg
END:VEVENT
END:VCALENDAR
