BEGIN:VCALENDAR
VERSION:2.0
PRODID:icalendar-ruby
CALSCALE:GREGORIAN
METHOD:PUBLISH
BEGIN:VEVENT
DTSTAMP:20260423T100731Z
UID:28-228071@thetab.ca
DTSTART:20260501T010000Z
DTEND:20260501T030000Z
CLASS:PUBLIC
CREATED:20260331T133816
DESCRIPTION:In preparation for Mother's day\, will will be joining with the
  youth\, on Thursday April 30th from 7-9pm\, to put together Mother's Day 
 gift bags which can then be handed out to the women in our lives who have 
 cared for us as a mother.
LAST-MODIFIED:20260331T133816
LOCATION:The Tab
SUMMARY:Mother's Day Prep
URL;VALUE=URI:https://www.thetab.ca/events/mothers-day-prep/2026-04-30
ATTACH;FILENAME=happy-films-lW_FPc42VNc-unsplash.jpg;FMTTYPE=image/jpeg:htt
 ps://dq5pwpg1q8ru0.cloudfront.net/2026/03/31/19/36/22/ef54d088-d2a3-4d77-9
 364-20cc71d4a26b/happy-films-lW_FPc42VNc-unsplash.jpg
END:VEVENT
END:VCALENDAR
