BEGIN:VCALENDAR
VERSION:2.0
PRODID:icalendar-ruby
CALSCALE:GREGORIAN
METHOD:PUBLISH
BEGIN:VEVENT
DTSTAMP:20260423T100731Z
UID:29-228072@thetab.ca
DTSTART:20260425T190000Z
DTEND:20260425T210000Z
CLASS:PUBLIC
CREATED:20260410T154752
DESCRIPTION:We invite you to join us for a meet and greet and baby shower o
 n April 25 at 1:00 PM as we celebrate this new season with Svitlana\, Kons
 tiantyn and Mark. They are grateful for the outpouring of love\, support\,
  and gifts they have received\, and would love the opportunity to connect 
 and celebrate together in person.\nFor those who have asked how to continu
 e supporting them\, contributions toward ongoing necessities such as diape
 rs and formula would be appreciated but most of all\, your presence means 
 so much.\nCome share in the joy\, offer your encouragement\, and help us s
 urround them with love.
LAST-MODIFIED:20260410T154752
LOCATION:The Tab
SUMMARY:Baby Shower
URL;VALUE=URI:https://www.thetab.ca/events/baby-shower/2026-04-25
ATTACH;FILENAME=adi-goldstein-Hli3R6LKibo-unsplash.jpg;FMTTYPE=image/jpeg:h
 ttps://dq5pwpg1q8ru0.cloudfront.net/2026/04/10/21/47/52/8526d93b-fe6f-451a
 -aaec-a0dd6ac5eed2/adi-goldstein-Hli3R6LKibo-unsplash.jpg
END:VEVENT
END:VCALENDAR
